Workbook
Name テーブル: Sheet!$A$1:$AB$1
Name 区分: [1]申請者一覧!$AG$23:$AG$25

Sheet 76申請書様式
S2: 令和 年 月 日
C4: 輪 島 市 長 様
L6: 申請者 | N6: 住所
N7: 氏名 | Z7: ←個人の申請の場合は個人名、法人の申請の場合は法人名を記載
Z8: ←法人の申請の場合は肩書、氏名を記載（「代表取締役 ●● ▼▼」等）
O9: （法人にあっては、事務所の所在地、名称および代表者の氏名）
B11: 許 可 申 請 書
B13: 土地区画整理法第７６条第１項の規定による許可を受けたいので、次のとおり申請します。
B14: 行為を行う土地の 所在及び地番 | G14: 輪島都市計画事業本町周辺地区【 | O14: □ | P14: 第一・ | R14: ■ | S14: 第二】被災市街地復興土地 | Z14: ←第一、第二のどちらかを■
G15: 区画整理事業施行地区内 | N15: 街区 | Q15: 画地
B16: 行 為 の 内 容 | C16: 建築物その他 工作物の建築 | G16: 種 別 | K16: ■新築 | M16: □増築 | O16: □改築 | Q16: □移築 | S16: □工作物の建築
G17: 用 途
G18: 構 造
K19: 申請部分 | P19: 申請以外の部分 | U19: 合 計
G20: 敷地面積 | O20: ㎡ | P20: 0 | T20: ㎡ | U20: =K20+P20 -> 0 | Y20: ㎡
G21: 建築面積 | O21: ㎡ | T21: ㎡ | U21: =K21+P21 -> 0 | Y21: ㎡
G22: 延べ面積 | O22: ㎡ | T22: ㎡ | U22: =K22+P22 -> 0 | Y22: ㎡
G23: 建ぺい率 | W23: ≦ | X23: 0.7
G24: 容 積 率 | W24: ≦ | X24: 3
C25: 土地の形質の変更の変更 | G25: □切土 | I25: □盛土 | K25: □その他（ | Y25: ）
C26: 物件の設置 又は堆積 | G26: 物件の種類 | Q26: 物件の重量
B28: その他 必要な事項
B30: 設計者の住所 及び氏名(連絡先) | Z30: ←問合せに対応できる方の住所を記載してください。
Z31: ←問合せに対応できる方の氏名、連絡先を記載してください。
B32: 行為の着手予定年月日 | N32: 行為の完了予定年月日
B34: ※ 添付書類（□にチェック）
C35: □ | D35: 仮換地指定通知（写し）
C36: □ | D36: 配置図、平面図、立面図
C37: □ | D37: 誓約書
B39: ※ 添付書類の注意事項
B40: （１） | D40: 仮換地指定通知書は調書、図面一式の写しを添付すること
B41: （２） | D41: 行為の内容が明らかとなる配置図および構造図とすること
B42: （３） | D42: 建築時及び地中化後に必要となる電力・通信の引込み位置、水道管、汚水管、などの地中配
D43: 管の位置、管種、管径、プロパンガスなど屋外設備のわかる配置図および構造図とすること

Sheet 誓約書
S2: ='76申請書様式'!S2 -> 令和 年 月 日
B5: 誓 約 書
B8: =IF('76申請書様式'!O14="■","輪島都市計画事業本町周辺地区【第一】被災市街地復興土地区画整理事業","輪島都市計画事業本町周辺地区【第二】被災市街地復興土地区画整理事業") -> 輪島都市計画事業本町周辺地区【第二】被災市街地復興土地区画整理事業
B9: 施行者または同意施行者 輪島市
B10: 代表者 輪 島 市 長 様
J12: 建築主 | L12: 住所 | N12: ='76申請書様式'!P6 -> 0
L13: 氏名 | N13: ='76申請書様式'!P7 -> 0
N14: ='76申請書様式'!P8 -> 0
B17: 建築敷地 | I17: 土地区画整理事業地区内 | Q17: ='76申請書様式'!M15 -> 0 | R17: 街区 | T17: ='76申請書様式'!P15 -> 0 | U17: 画地
B19: 建築行為等の種別 | I19: ='76申請書様式'!K16&" "&'76申請書様式'!M16&" "&'76申請書様式'!O16&" "&'76申請書様式'!Q16&" "&'76申請書様式'!S16 -> ■新築 □増築 □改築 □移築 □工作物の建築
B21: 建築物等の構造 | I21: ='76申請書様式'!K18 -> 0
B23: 記
B25: =IF('76申請書様式'!O14="■"," 上記建築物等を輪島都市計画事業本町周辺地区【第一】被災市街地復興土地区画整理事業地区内に建築するに当たり、下記の条件を遵守し、事業の遂行に支障を来さないようにすることを誓約致します。"," 上記建築物等を輪島都市計画事業本町周辺地区【第二】被災市街地復興土地区画整理事業地区内に建築するに当たり、下記の条件を遵守し、事業の遂行に支障を来さないようにすることを誓約致します。") -> 上記建築物等を輪島都市計画事業本町周辺地区【第二】被災市街地復興土地区画整理事業地区内に建築するに当たり、下記の条件を遵守し、事業の遂行に支障を来さないようにすることを誓約致します。
B28: 条 件
B30: １ | C30: 本建築物等について、将来移転が生じた場合には、関係法令を遵守するとともに、施行者の指示に従い速やかに移転します。
B32: ２ | C32: 都合により、建築物等を第三者に譲渡等する場合には、施行者に届け出るとともに、本誓約書が第三者に継承されることを譲渡等契約書に明記します。
B34: ３ | C34: 建築に伴う第三者との問題は、当方において解決し、施行者には一切迷惑をかけません。

Sheet 76申請書様式 （記入例）
S2: 46219
C4: 輪 島 市 長 様
L6: 申請者 | N6: 住所 | P6: 石川県●●市●●123-456
N7: 氏名 | P7: ●● ●● | Z7: ←個人の申請の場合は個人名、法人の申請の場合は法人名を記載
Z8: ←法人の申請の場合は肩書、氏名を記載（「代表取締役 ●● ▼▼」等）
O9: （法人にあっては、事務所の所在地、名称および代表者の氏名）
B11: 許 可 申 請 書
B13: 土地区画整理法第７６条第１項の規定による許可を受けたいので、次のとおり申請します。
B14: 行為を行う土地の 所在及び地番 | G14: 輪島都市計画事業本町周辺地区【 | O14: □ | P14: 第一・ | R14: ■ | S14: 第二】被災市街地復興土地
G15: 区画整理事業施行地区内 | M15: 99 | N15: 街区 | P15: 99 | Q15: 画地
B16: 行 為 の 内 容 | C16: 建築物その他 工作物の建築 | G16: 種 別 | K16: ■新築 | M16: □増築 | O16: □改築 | Q16: □移築 | S16: □工作物の建築
G17: 用 途 | K17: 店舗併用住宅
G18: 構 造 | K18: 木造
K19: 申請部分 | P19: 申請以外の部分 | U19: 合 計
G20: 敷地面積 | K20: 100 | O20: ㎡ | P20: 0 | T20: ㎡ | U20: =K20+P20 -> 100 | Y20: ㎡
G21: 建築面積 | K21: 40 | O21: ㎡ | T21: ㎡ | U21: =K21+P21 -> 40 | Y21: ㎡
G22: 延べ面積 | K22: 123.23 | O22: ㎡ | T22: ㎡ | U22: =K22+P22 -> 123.23 | Y22: ㎡
G23: 建ぺい率 | U23: 0.4 | W23: ≦ | X23: 0.7
G24: 容 積 率 | U24: 1.2323 | W24: ≦ | X24: 3
C25: 土地の形質の変更の変更 | G25: □切土 | I25: □盛土 | K25: □その他（ | Y25: ）
C26: 物件の設置 又は堆積 | G26: 物件の種類 | Q26: 物件の重量
B28: その他 必要な事項
B30: 設計者の住所 及び氏名(連絡先) | G30: ●●建築設計事務所
G31: ▼▼ ▼▼ | Q31: 000-0000-0000 | Z31: ←問合せに対応できる方の氏名、連絡先を記載してください。
B32: 行為の着手予定年月日 | G32: 46219 | N32: 行為の完了予定年月日 | S32: 46722
B34: ※ 添付書類（□にチェック）
C35: □ | D35: 仮換地指定通知（写し）
C36: □ | D36: 配置図、平面図、立面図
C37: □ | D37: 誓約書
B39: ※ 添付書類の注意事項
B40: （１） | D40: 仮換地指定通知書は調書、図面一式の写しを添付すること
B41: （２） | D41: 行為の内容が明らかとなる配置図および構造図とすること
B42: （３） | D42: 建築時及び地中化後に必要となる電力・通信の引込み位置、水道管、汚水管、などの地中配
D43: 管の位置、管種、管径、プロパンガスなど屋外設備のわかる配置図および構造図とすること

Sheet Sheet
A1: =IF('76申請書様式'!P7=0,'76申請書様式'!P8,0) -> 0 | B1: =IF(A1=0,'76申請書様式'!P7,'76申請書様式'!P8) -> 0 | C1: ='76申請書様式'!P6 -> 0 | D1: =IF('76申請書様式'!O14="■","第一","第二") -> 第二 | E1: ='76申請書様式'!M15&"街区"&'76申請書様式'!P15&"番" -> 街区番 | F1: {=_xlfn.IFS('76申請書様式'!K16="■新築","新築",'76申請書様式'!M16="■増築","増築",'76申請書様式'!O16="■改築","改築",'76申請書様式'!Q16="■移築","移築",'76申請書様式'!S16="■工作物の建築","工作物の建築")} -> 新築 | G1: ='76申請書様式'!K17 -> 0 | H1: ='76申請書様式'!K18 -> 0 | I1: =IF('76申請書様式'!G25="■切土","切土","") | J1: =IF('76申請書様式'!I25="■盛土","盛土","") | K1: ='76申請書様式'!N25 -> 0 | L1: ='76申請書様式'!K26 -> 0 | M1: ='76申請書様式'!U26 -> 0 | W1: ='76申請書様式'!S2 -> 令和 年 月 日 | AA1: ='76申請書様式'!G30&" "&'76申請書様式'!G31 | AB1: ='76申請書様式'!Q31 -> 0
